BEGIN:VCALENDAR
VERSION:2.0
PRODID:-//Espiritualidad Pamplona-Iruña - ECPv6.15.20//NONSGML v1.0//EN
CALSCALE:GREGORIAN
METHOD:PUBLISH
X-WR-CALNAME:Espiritualidad Pamplona-Iruña
X-ORIGINAL-URL:https://www.espiritualidadpamplona-irunea.org
X-WR-CALDESC:Eventos para Espiritualidad Pamplona-Iruña
REFRESH-INTERVAL;VALUE=DURATION:PT1H
X-Robots-Tag:noindex
X-PUBLISHED-TTL:PT1H
BEGIN:VTIMEZONE
TZID:Europe/Madrid
BEGIN:DAYLIGHT
TZOFFSETFROM:+0100
TZOFFSETTO:+0200
TZNAME:CEST
DTSTART:20250330T010000
END:DAYLIGHT
BEGIN:STANDARD
TZOFFSETFROM:+0200
TZOFFSETTO:+0100
TZNAME:CET
DTSTART:20251026T010000
END:STANDARD
BEGIN:DAYLIGHT
TZOFFSETFROM:+0100
TZOFFSETTO:+0200
TZNAME:CEST
DTSTART:20260329T010000
END:DAYLIGHT
BEGIN:STANDARD
TZOFFSETFROM:+0200
TZOFFSETTO:+0100
TZNAME:CET
DTSTART:20261025T010000
END:STANDARD
BEGIN:DAYLIGHT
TZOFFSETFROM:+0100
TZOFFSETTO:+0200
TZNAME:CEST
DTSTART:20270328T010000
END:DAYLIGHT
BEGIN:STANDARD
TZOFFSETFROM:+0200
TZOFFSETTO:+0100
TZNAME:CET
DTSTART:20271031T010000
END:STANDARD
END:VTIMEZONE
BEGIN:VEVENT
DTSTART;TZID=Europe/Madrid:20260425T093000
DTEND;TZID=Europe/Madrid:20260425T190000
DTSTAMP:20260425T133404
CREATED:20260302T204514Z
LAST-MODIFIED:20260302T204514Z
UID:37456-1777109400-1777143600@www.espiritualidadpamplona-irunea.org
SUMMARY:Curso de iniciación al Zen en Bilbao
DESCRIPTION:Sábado 25 de abril: \nCurso impartido por Belen Trueba
URL:https://www.espiritualidadpamplona-irunea.org/evento/curso-de-iniciacion-al-zen-en-bilbao/
LOCATION:Centro Diocesano de Espiritualidad\, Virgen de Begoña 36\, Bilbao\, Vizcaya\, Spain
ORGANIZER;CN="Bel%C3%A9n Trueba":MAILTO:btruebaherranz@gmail.com
END:VEVENT
BEGIN:VEVENT
DTSTART;TZID=Europe/Madrid:20260425T100000
DTEND;TZID=Europe/Madrid:20260425T160000
DTSTAMP:20260425T133404
CREATED:20260223T155148Z
LAST-MODIFIED:20260223T155148Z
UID:37291-1777111200-1777132800@www.espiritualidadpamplona-irunea.org
SUMMARY:Logroño: Taller de psicología\, 25-26 de abril
DESCRIPTION:25 y 26 de abril: \nTaller con Enrique Martínez. «Vivir sin culpa » 2ª parte
URL:https://www.espiritualidadpamplona-irunea.org/evento/logrono-taller-de-psicologia-25-26-de-abril/
LOCATION:Colegio Marianistas\, Ctra. Logroño Puente Madre\, 2\, Logroño\, La Rioja\, 26006\, España
ORGANIZER;CN="Ana Mar%C3%ADa de las Heras":MAILTO:anamariadelasherasyanguas@gmail.com
END:VEVENT
BEGIN:VEVENT
DTSTART;TZID=Europe/Madrid:20260425T100000
DTEND;TZID=Europe/Madrid:20260425T170000
DTSTAMP:20260425T133404
CREATED:20260228T183725Z
LAST-MODIFIED:20260228T183725Z
UID:37372-1777111200-1777136400@www.espiritualidadpamplona-irunea.org
SUMMARY:Zazenkai. Zendo Iparhaizea
DESCRIPTION:Sábado 25 de abril: \nMeditación en el Zendo Iparhaizea (Bilbao)
URL:https://www.espiritualidadpamplona-irunea.org/evento/zazenkai-zendo-iparhaizea-2/
LOCATION:Zendo Iparhaieza\, Edificio Albeniz\, C/ Gordoniz 44 8º departamento 5\, Bilbao\, Vizcaya\, 48005\, España
ORGANIZER;CN="Iparhaizea":MAILTO:iparhaizea1@gmail.com
END:VEVENT
END:VCALENDAR