BEGIN:VCALENDAR
VERSION:2.0
PRODID:-//Espiritualidad Pamplona-Iruña - ECPv6.15.20//NONSGML v1.0//EN
CALSCALE:GREGORIAN
METHOD:PUBLISH
X-ORIGINAL-URL:https://www.espiritualidadpamplona-irunea.org
X-WR-CALDESC:Eventos para Espiritualidad Pamplona-Iruña
REFRESH-INTERVAL;VALUE=DURATION:PT1H
X-Robots-Tag:noindex
X-PUBLISHED-TTL:PT1H
BEGIN:VTIMEZONE
TZID:Europe/Madrid
BEGIN:DAYLIGHT
TZOFFSETFROM:+0100
TZOFFSETTO:+0200
TZNAME:CEST
DTSTART:20250330T010000
END:DAYLIGHT
BEGIN:STANDARD
TZOFFSETFROM:+0200
TZOFFSETTO:+0100
TZNAME:CET
DTSTART:20251026T010000
END:STANDARD
BEGIN:DAYLIGHT
TZOFFSETFROM:+0100
TZOFFSETTO:+0200
TZNAME:CEST
DTSTART:20260329T010000
END:DAYLIGHT
BEGIN:STANDARD
TZOFFSETFROM:+0200
TZOFFSETTO:+0100
TZNAME:CET
DTSTART:20261025T010000
END:STANDARD
BEGIN:DAYLIGHT
TZOFFSETFROM:+0100
TZOFFSETTO:+0200
TZNAME:CEST
DTSTART:20270328T010000
END:DAYLIGHT
BEGIN:STANDARD
TZOFFSETFROM:+0200
TZOFFSETTO:+0100
TZNAME:CET
DTSTART:20271031T010000
END:STANDARD
END:VTIMEZONE
BEGIN:VEVENT
DTSTART;TZID=Europe/Madrid:20260502T080000
DTEND;TZID=Europe/Madrid:20260502T170000
DTSTAMP:20260425T133232
CREATED:20260101T020025Z
LAST-MODIFIED:20260423T184220Z
UID:38421-1777708800-1777741200@www.espiritualidadpamplona-irunea.org
SUMMARY:"Asana y yoga Nidra" en Málaga
DESCRIPTION:2 y 3 de mayo: \nImparte Enrique Moya
URL:https://www.espiritualidadpamplona-irunea.org/evento/asana-y-yoga-nidra-en-malaga/
LOCATION:Centro Integral de La Malagueta\, Ctra\, Machraviaya Km 3\, Santillant Retreat\, Málaga\, 28790\, Spain
CATEGORIES:Destacados
END:VEVENT
BEGIN:VEVENT
DTSTART;TZID=Europe/Madrid:20260505T190000
DTEND;TZID=Europe/Madrid:20260505T210000
DTSTAMP:20260425T133232
CREATED:20260105T030004Z
LAST-MODIFIED:20260423T184246Z
UID:38425-1778007600-1778014800@www.espiritualidadpamplona-irunea.org
SUMMARY:"Cultivando las emociones positivas"
DESCRIPTION:5 al 26 de mayo: \n4 sesiones online impartidas por Javier García Campayo
URL:https://www.espiritualidadpamplona-irunea.org/evento/cultivando-las-emociones-positivas/
LOCATION:Online
CATEGORIES:Destacados
ORGANIZER;CN="Siglantana":MAILTO:info@siglantana.com
END:VEVENT
END:VCALENDAR